BEGIN:VCALENDAR
VERSION:2.0
PRODID:-//Goan Association UK - ECPv6.15.20//NONSGML v1.0//EN
CALSCALE:GREGORIAN
METHOD:PUBLISH
X-WR-CALNAME:Goan Association UK
X-ORIGINAL-URL:https://goauk.com
X-WR-CALDESC:Events for Goan Association UK
REFRESH-INTERVAL;VALUE=DURATION:PT1H
X-Robots-Tag:noindex
X-PUBLISHED-TTL:PT1H
BEGIN:VTIMEZONE
TZID:UTC
BEGIN:STANDARD
TZOFFSETFROM:+0000
TZOFFSETTO:+0000
TZNAME:UTC
DTSTART:20160101T000000
END:STANDARD
END:VTIMEZONE
BEGIN:VEVENT
DTSTART;TZID=UTC:20170513T120000
DTEND;TZID=UTC:20170513T170000
DTSTAMP:20260421T112112
CREATED:20170401T005029Z
LAST-MODIFIED:20170501T085813Z
UID:2823-1494676800-1494694800@goauk.com
SUMMARY:Day with Our Lady of Fatima - Centenary Event of the Apparition. Rosary\, Benediction\, Holy Mass\, Music and a slide show
DESCRIPTION:
URL:https://goauk.com/event/day-with-our-lady-of-fatima/
LOCATION:St. Andrews RC Church\, Brook Road\, Thornton Heath\, Surrey\, CR7 7RD\, United Kingdom
CATEGORIES:GOA Events
END:VEVENT
END:VCALENDAR