BEGIN:VCALENDAR
VERSION:2.0
PRODID:-//Goan Association UK - ECPv6.15.20//NONSGML v1.0//EN
CALSCALE:GREGORIAN
METHOD:PUBLISH
X-ORIGINAL-URL:https://goauk.com
X-WR-CALDESC:Events for Goan Association UK
REFRESH-INTERVAL;VALUE=DURATION:PT1H
X-Robots-Tag:noindex
X-PUBLISHED-TTL:PT1H
BEGIN:VTIMEZONE
TZID:UTC
BEGIN:STANDARD
TZOFFSETFROM:+0000
TZOFFSETTO:+0000
TZNAME:UTC
DTSTART:20160101T000000
END:STANDARD
END:VTIMEZONE
BEGIN:VEVENT
DTSTART;TZID=UTC:20170514T130000
DTEND;TZID=UTC:20170514T200000
DTSTAMP:20260421T170552
CREATED:20170425T130132Z
LAST-MODIFIED:20170425T130132Z
UID:2870-1494766800-1494792000@goauk.com
SUMMARY:Pilar Fathers UK - Silver Jubilee Celebration
DESCRIPTION:A social Evening with Rainbows End and Stringalong
URL:https://goauk.com/event/pilar-fathers-uk-silver-jubilee-celebration/
LOCATION:Archbishop Lanfranc School\, Mitcham Road\, Croydon\, CR9 3AS\, United Kingdom
END:VEVENT
END:VCALENDAR