BEGIN:VCALENDAR
VERSION:2.0
PRODID:-//Goan Association UK - ECPv6.15.20//NONSGML v1.0//EN
CALSCALE:GREGORIAN
METHOD:PUBLISH
X-WR-CALNAME:Goan Association UK
X-ORIGINAL-URL:https://goauk.com
X-WR-CALDESC:Events for Goan Association UK
REFRESH-INTERVAL;VALUE=DURATION:PT1H
X-Robots-Tag:noindex
X-PUBLISHED-TTL:PT1H
BEGIN:VTIMEZONE
TZID:UTC
BEGIN:STANDARD
TZOFFSETFROM:+0000
TZOFFSETTO:+0000
TZNAME:UTC
DTSTART:20160101T000000
END:STANDARD
END:VTIMEZONE
BEGIN:VEVENT
DTSTART;TZID=UTC:20170827T110000
DTEND;TZID=UTC:20170827T173000
DTSTAMP:20260421T182849
CREATED:20170508T224335Z
LAST-MODIFIED:20170825T075403Z
UID:2886-1503831600-1503855000@goauk.com
SUMMARY:G.O.A. Sports Day - Croydon Sports Arena
DESCRIPTION:  \n  \n  \n  \n  \n  \n  \n 
URL:https://goauk.com/event/g-o-a-sports-day-croydon-sports-arena/
LOCATION:Croydon Sports Arena\, Albert Rd\, London \, SE25 4QL\, United Kingdom
END:VEVENT
END:VCALENDAR