BEGIN:VCALENDAR
VERSION:2.0
PRODID:-//Goan Association UK - ECPv6.15.20//NONSGML v1.0//EN
CALSCALE:GREGORIAN
METHOD:PUBLISH
X-ORIGINAL-URL:https://goauk.com
X-WR-CALDESC:Events for Goan Association UK
REFRESH-INTERVAL;VALUE=DURATION:PT1H
X-Robots-Tag:noindex
X-PUBLISHED-TTL:PT1H
BEGIN:VTIMEZONE
TZID:UTC
BEGIN:STANDARD
TZOFFSETFROM:+0000
TZOFFSETTO:+0000
TZNAME:UTC
DTSTART:20160101T000000
END:STANDARD
END:VTIMEZONE
BEGIN:VEVENT
DTSTART;TZID=UTC:20170917T103000
DTEND;TZID=UTC:20170917T163000
DTSTAMP:20260421T170543
CREATED:20170401T020518Z
LAST-MODIFIED:20170726T184855Z
UID:2842-1505644200-1505665800@goauk.com
SUMMARY:GOA Badminton Tournament
DESCRIPTION:
URL:https://goauk.com/event/goa-badminton-tournament/
CATEGORIES:GOA Events
END:VEVENT
END:VCALENDAR