BEGIN:VCALENDAR
VERSION:2.0
PRODID:-//Goan Association UK - ECPv6.15.20//NONSGML v1.0//EN
CALSCALE:GREGORIAN
METHOD:PUBLISH
X-ORIGINAL-URL:https://goauk.com
X-WR-CALDESC:Events for Goan Association UK
REFRESH-INTERVAL;VALUE=DURATION:PT1H
X-Robots-Tag:noindex
X-PUBLISHED-TTL:PT1H
BEGIN:VTIMEZONE
TZID:UTC
BEGIN:STANDARD
TZOFFSETFROM:+0000
TZOFFSETTO:+0000
TZNAME:UTC
DTSTART:20160101T000000
END:STANDARD
END:VTIMEZONE
BEGIN:VEVENT
DTSTART;VALUE=DATE:20171231
DTEND;VALUE=DATE:20180101
DTSTAMP:20260425T204007
CREATED:20170330T210952Z
LAST-MODIFIED:20170330T210952Z
UID:2820-1514678400-1514764799@goauk.com
SUMMARY:GWS New Year's Eve Fund-raising Ball
DESCRIPTION:Sunday 31 December 2017 \n– GWS New Year’s Eve Fund-raising Ball\nat Wandsworth Civic Centre.
URL:https://goauk.com/event/gws-new-years-eve-fund-raising-ball/
LOCATION:Wandsworth Civic Suite\, High Street\, Wandsworth\, London\, SW18 2PU\, United Kingdom
CATEGORIES:GOA Events
END:VEVENT
END:VCALENDAR