BEGIN:VCALENDAR
VERSION:2.0
PRODID:-//Goan Association UK - ECPv6.15.20//NONSGML v1.0//EN
CALSCALE:GREGORIAN
METHOD:PUBLISH
X-WR-CALNAME:Goan Association UK
X-ORIGINAL-URL:https://goauk.com
X-WR-CALDESC:Events for Goan Association UK
REFRESH-INTERVAL;VALUE=DURATION:PT1H
X-Robots-Tag:noindex
X-PUBLISHED-TTL:PT1H
BEGIN:VTIMEZONE
TZID:UTC
BEGIN:STANDARD
TZOFFSETFROM:+0000
TZOFFSETTO:+0000
TZNAME:UTC
DTSTART:20200101T000000
END:STANDARD
END:VTIMEZONE
BEGIN:VEVENT
DTSTART;TZID=UTC:20210912T110000
DTEND;TZID=UTC:20210912T180000
DTSTAMP:20260422T100252
CREATED:20210811T100656Z
LAST-MODIFIED:20210826T165859Z
UID:3830-1631444400-1631469600@goauk.com
SUMMARY:GOA Hockey / Volleyball / Ladies throwball Event - HSBC Sports Club
DESCRIPTION:  \nOrganiser :  Richard Fernandes
URL:https://goauk.com/event/goa-hockey-volleyball-ladies-throwball-event-hsbc-sports-club/
LOCATION:HSBC Sports & Social Club\, Lennard Road\, BR3 1QW\, Lennard Road\, BR3 1QW\, United Kingdom
END:VEVENT
END:VCALENDAR