BEGIN:VCALENDAR
VERSION:2.0
PRODID:-//Goan Association UK - ECPv6.15.20//NONSGML v1.0//EN
CALSCALE:GREGORIAN
METHOD:PUBLISH
X-ORIGINAL-URL:https://goauk.com
X-WR-CALDESC:Events for Goan Association UK
REFRESH-INTERVAL;VALUE=DURATION:PT1H
X-Robots-Tag:noindex
X-PUBLISHED-TTL:PT1H
BEGIN:VTIMEZONE
TZID:UTC
BEGIN:STANDARD
TZOFFSETFROM:+0000
TZOFFSETTO:+0000
TZNAME:UTC
DTSTART:20240101T000000
END:STANDARD
END:VTIMEZONE
BEGIN:VEVENT
DTSTART;TZID=UTC:20250803T110000
DTEND;TZID=UTC:20250803T200000
DTSTAMP:20260424T113537
CREATED:20250109T121243Z
LAST-MODIFIED:20250726T135041Z
UID:4659-1754218800-1754251200@goauk.com
SUMMARY:G.O.A. UK The UK Goan Festival at Cranford Community College
DESCRIPTION:The UK Goan Festival  \n\nUK GOAN FESTIVAL – The ORIGINAL GOA DAY \n\n\n\n3rd August 2025 The G.O.A. (UK) invites you all to join us at Cranford Community College! Experience a day filled with vibrant music\, delicious food\, and colourful cultural performances. Whether you’re a fan of traditional Goan cuisine or looking to experience the brilliance of Remo\, DJ Ryan Nogar and Black in White\, this event has a Goan vibe for everyone. Don’t miss out on this opportunity to immerse yourself in the lively Goan community atmosphere right here in the UK!! \n\n\n\nTo book your tickets in advance\, click on this link: https://OriginalGoaDay2025.eventbrite.co.uk
URL:https://goauk.com/event/the-uk-goan-festival/
CATEGORIES:GOA Events
END:VEVENT
END:VCALENDAR