BEGIN:VCALENDAR
VERSION:2.0
PRODID:-//Goan Association UK - ECPv6.15.20//NONSGML v1.0//EN
CALSCALE:GREGORIAN
METHOD:PUBLISH
X-WR-CALNAME:Goan Association UK
X-ORIGINAL-URL:https://goauk.com
X-WR-CALDESC:Events for Goan Association UK
REFRESH-INTERVAL;VALUE=DURATION:PT1H
X-Robots-Tag:noindex
X-PUBLISHED-TTL:PT1H
BEGIN:VTIMEZONE
TZID:UTC
BEGIN:STANDARD
TZOFFSETFROM:+0000
TZOFFSETTO:+0000
TZNAME:UTC
DTSTART:20240101T000000
END:STANDARD
END:VTIMEZONE
BEGIN:VEVENT
DTSTART;TZID=UTC:20250927T080000
DTEND;TZID=UTC:20250927T170000
DTSTAMP:20260424T235646
CREATED:20250109T121520Z
LAST-MODIFIED:20250109T121520Z
UID:4669-1758960000-1758992400@goauk.com
SUMMARY:Mass and music gathering with Pilar Fathers
DESCRIPTION:Mass and music gathering with Pilar Fathers tbc
URL:https://goauk.com/event/mass-and-music-gathering-with-pilar-fathers/
CATEGORIES:GOA Events
END:VEVENT
END:VCALENDAR