BEGIN:VCALENDAR
VERSION:2.0
PRODID:-//Goan Association UK - ECPv6.15.20//NONSGML v1.0//EN
CALSCALE:GREGORIAN
METHOD:PUBLISH
X-WR-CALNAME:Goan Association UK
X-ORIGINAL-URL:https://goauk.com
X-WR-CALDESC:Events for Goan Association UK
REFRESH-INTERVAL;VALUE=DURATION:PT1H
X-Robots-Tag:noindex
X-PUBLISHED-TTL:PT1H
BEGIN:VTIMEZONE
TZID:UTC
BEGIN:STANDARD
TZOFFSETFROM:+0000
TZOFFSETTO:+0000
TZNAME:UTC
DTSTART:20160101T000000
END:STANDARD
END:VTIMEZONE
BEGIN:VEVENT
DTSTART;TZID=UTC:20171111T123000
DTEND;TZID=UTC:20171111T170000
DTSTAMP:20260421T210334
CREATED:20170815T094441Z
LAST-MODIFIED:20171022T162032Z
UID:2977-1510403400-1510419600@goauk.com
SUMMARY:GOA Mass for the Deceased Members of our community
DESCRIPTION:Venue:  SS Peter and Pauls Church\, Cranmer Road\, Mitcham\, Surrey\,  CR4 4LD \nMass : 12.30 will be followed by refreshments and a three course meal at £7.50 payable in advance. \nBook early to avoid disappointment.
URL:https://goauk.com/event/goa-mass-for-the-deceased-members-of-our-community/
END:VEVENT
BEGIN:VEVENT
DTSTART;TZID=UTC:20171125T150000
DTEND;TZID=UTC:20171125T180000
DTSTAMP:20260421T210334
CREATED:20171101T231726Z
LAST-MODIFIED:20171101T231727Z
UID:3042-1511622000-1511632800@goauk.com
SUMMARY:The G.O.A. Annual General Meeting - 3.00 p.m. Saturday 25th November 2017
DESCRIPTION:Venue: Archbishop Lanfranc Academy\, Croydon\, CR9 3AS.  Rm G-07
URL:https://goauk.com/event/the-g-o-a-annual-general-meeting-3-00-p-m-saturday-25th-november-2017/
END:VEVENT
END:VCALENDAR