BEGIN:VCALENDAR
VERSION:2.0
PRODID:-//Goan Association UK - ECPv6.15.20//NONSGML v1.0//EN
CALSCALE:GREGORIAN
METHOD:PUBLISH
X-ORIGINAL-URL:https://goauk.com
X-WR-CALDESC:Events for Goan Association UK
REFRESH-INTERVAL;VALUE=DURATION:PT1H
X-Robots-Tag:noindex
X-PUBLISHED-TTL:PT1H
BEGIN:VTIMEZONE
TZID:UTC
BEGIN:STANDARD
TZOFFSETFROM:+0000
TZOFFSETTO:+0000
TZNAME:UTC
DTSTART:20240101T000000
END:STANDARD
END:VTIMEZONE
BEGIN:VEVENT
DTSTART;TZID=UTC:20250803T110000
DTEND;TZID=UTC:20250803T200000
DTSTAMP:20260422T100402
CREATED:20250109T121243Z
LAST-MODIFIED:20250726T135041Z
UID:4659-1754218800-1754251200@goauk.com
SUMMARY:G.O.A. UK The UK Goan Festival at Cranford Community College
DESCRIPTION:The UK Goan Festival  \n\nUK GOAN FESTIVAL – The ORIGINAL GOA DAY \n\n\n\n3rd August 2025 The G.O.A. (UK) invites you all to join us at Cranford Community College! Experience a day filled with vibrant music\, delicious food\, and colourful cultural performances. Whether you’re a fan of traditional Goan cuisine or looking to experience the brilliance of Remo\, DJ Ryan Nogar and Black in White\, this event has a Goan vibe for everyone. Don’t miss out on this opportunity to immerse yourself in the lively Goan community atmosphere right here in the UK!! \n\n\n\nTo book your tickets in advance\, click on this link: https://OriginalGoaDay2025.eventbrite.co.uk
URL:https://goauk.com/event/the-uk-goan-festival/
CATEGORIES:GOA Events
END:VEVENT
BEGIN:VEVENT
DTSTART;TZID=UTC:20250830T080000
DTEND;TZID=UTC:20250830T170000
DTSTAMP:20260422T100402
CREATED:20250109T121345Z
LAST-MODIFIED:20250810T105556Z
UID:4663-1756540800-1756573200@goauk.com
SUMMARY:G.O.A. UK Summer Party
DESCRIPTION:G.O.A. UK Summer Party\n 
URL:https://goauk.com/event/summer-party-2025/
CATEGORIES:GOA Events
END:VEVENT
BEGIN:VEVENT
DTSTART;TZID=UTC:20250830T103000
DTEND;TZID=UTC:20250830T180000
DTSTAMP:20260422T100402
CREATED:20250109T121312Z
LAST-MODIFIED:20250707T123141Z
UID:4661-1756549800-1756576800@goauk.com
SUMMARY:India Independence Day
DESCRIPTION:India Independence Day  \nIndian Independence Day Celebration is being held this year at the Navnat Centre in Hayes UB31AR
URL:https://goauk.com/event/india-independence-day/
CATEGORIES:GOA Events
END:VEVENT
BEGIN:VEVENT
DTSTART;TZID=UTC:20250831T110000
DTEND;TZID=UTC:20250831T190000
DTSTAMP:20260422T100402
CREATED:20250810T105825Z
LAST-MODIFIED:20250810T105825Z
UID:4909-1756638000-1756666800@goauk.com
SUMMARY:Trook Tournament 2025
DESCRIPTION:Trook Tournament 2025 \n 
URL:https://goauk.com/event/trook-tournament-2025/
CATEGORIES:GOA Events
END:VEVENT
END:VCALENDAR